BEGIN:VCALENDAR
VERSION:2.0
METHOD:PUBLISH
PRODID:-//www.semoevents.com//Events Calendar//EN
BEGIN:VEVENT
DTSTART:20260502T003000Z
DTEND:20260502T003000Z
SUMMARY:Celebrate the Arts
LOCATION:River Campus - Bedell Performance Hall, 518 S. Fountain St., Cape Girardeau, MO
UID:29455-2026-05-01@www.semoevents.com
DESCRIPTION:This vibrant annual event brings together the creative forces of the Holland College of Arts and Media for a compelling evening of live performance. It is a celebration of collaboration, featuring the Southeast Jazz Studio, the talented students from the Dobbins Conservatory of Theatre and Dance, and the Department of Music, original work by BFA students from the Department of Art + Design and the Department of Mass Media. For tickets visit: www.semo.evenue.net Discounts available. Suitable for all audiences. Sponsored by Saint Francis Healthcare System. 
END:VEVENT
END:VCALENDAR
