BEGIN:VCALENDAR
VERSION:2.0
METHOD:PUBLISH
PRODID:-//www.semoevents.com//Events Calendar//EN
BEGIN:VEVENT
DTSTART:20260515T153000Z
DTEND:20260515T163000Z
SUMMARY:Send Flowers to Someone Day Craft
LOCATION:Riverside Regional Library, Perryville, 800 City Park Lane, Perryville, MO
UID:29456-2026-05-15@www.semoevents.com
DESCRIPTION:Create beautiful flowers to give to someone to brighten their day. For all ages at the Perryville Branch.
END:VEVENT
END:VCALENDAR
