BEGIN:VCALENDAR
VERSION:2.0
METHOD:PUBLISH
PRODID:-//www.semoevents.com//Events Calendar//EN
BEGIN:VEVENT
DTSTART:20260515T190000Z
DTEND:20260515T200000Z
SUMMARY:Sewing Circle
LOCATION:Riverside Regional Library, Benton, 54 N. Winchester Street, Benton, MO
UID:29457-2026-05-15@www.semoevents.com
DESCRIPTION:Bring in your current project to make progress or get help. For all ages at the Benton Branch.
END:VEVENT
END:VCALENDAR
