BEGIN:VCALENDAR
VERSION:2.0
METHOD:PUBLISH
PRODID:-//www.semoevents.com//Events Calendar//EN
BEGIN:VEVENT
DTSTART:20260516T150000Z
DTEND:20260516T160000Z
SUMMARY:Adult Craft
LOCATION:Riverside Regional Library, Altenburg, 66 Poplar Street, Altenburg, MO
UID:29458-2026-05-16@www.semoevents.com
DESCRIPTION:Have vintage handkerchiefs and would like to do something with them? Join us and make handkerchief angels to use as home décor, Christmas ornaments or give as gifts. For ages 18+ at the Altenburg Branch.
END:VEVENT
END:VCALENDAR
