BEGIN:VCALENDAR
VERSION:2.0
METHOD:PUBLISH
PRODID:-//www.semoevents.com//Events Calendar//EN
BEGIN:VEVENT
DTSTART:20260518T140000Z
DTEND:20260518T230000Z
SUMMARY:Mushroom Craft
LOCATION:Riverside Regional Library, Perryville, 800 City Park Lane, Perryville, MO
UID:29459-2026-05-18@www.semoevents.com
DESCRIPTION:Get creative with a fun craft. For all ages at the Perryville Branch.
END:VEVENT
END:VCALENDAR
