BEGIN:VCALENDAR
VERSION:2.0
METHOD:PUBLISH
PRODID:-//www.semoevents.com//Events Calendar//EN
BEGIN:VEVENT
DTSTART:20260518T150000Z
DTEND:20260518T160000Z
SUMMARY:Animal Yoga
LOCATION:Riverside Regional Library, 1997 E. Jackson Blvd., Jackson, MO
UID:29460-2026-05-18@www.semoevents.com
DESCRIPTION:Try some calming and fun yoga, with the help of some stuff animals and books. Grown ups are encouraged to join in too! For ages 0-10 at the Main Branch, Jackson. 
END:VEVENT
END:VCALENDAR
