BEGIN:VCALENDAR
VERSION:2.0
METHOD:PUBLISH
PRODID:-//www.semoevents.com//Events Calendar//EN
BEGIN:VEVENT
DTSTART:20260518T183000Z
DTEND:20260518T193000Z
SUMMARY:Book Discussion
LOCATION:Riverside Regional Library, Oran, 120 Mountain Street, Oran, MO 63771
UID:29461-2026-05-18@www.semoevents.com
DESCRIPTION:Join us for a great discussion. For ages 18+ at the Oran Branch. 
END:VEVENT
END:VCALENDAR
