BEGIN:VCALENDAR
VERSION:2.0
METHOD:PUBLISH
PRODID:-//www.semoevents.com//Events Calendar//EN
BEGIN:VEVENT
DTSTART:20260518T220000Z
DTEND:20260518T230000Z
SUMMARY:Juvenile Book Club
LOCATION:Riverside Regional Library, 1997 E. Jackson Blvd., Jackson, MO
UID:29462-2026-05-18@www.semoevents.com
DESCRIPTION:This month we’ll read one of the Dog Man books by Dav Pilkey and watch the “Dog Man” movie. For ages 8-14 at the Main Branch, Jackson. 
END:VEVENT
END:VCALENDAR
