BEGIN:VCALENDAR
VERSION:2.0
METHOD:PUBLISH
PRODID:-//www.semoevents.com//Events Calendar//EN
BEGIN:VEVENT
DTSTART:20260518T230000Z
DTEND:20260519T000000Z
SUMMARY:Riverside Book Club
LOCATION:Riverside Regional Library, 1997 E. Jackson Blvd., Jackson, MO
UID:29463-2026-05-18@www.semoevents.com
DESCRIPTION:Join us for a discussion Florence Knapp’s debut novel of “The Names”. The group meets at the Main Branch in Jackson. For ages 18+. Book are available for check out at the Main Branch.
END:VEVENT
END:VCALENDAR
