BEGIN:VCALENDAR
VERSION:2.0
METHOD:PUBLISH
PRODID:-//www.semoevents.com//Events Calendar//EN
BEGIN:VEVENT
DTSTART:20260519T000000Z
DTEND:20260519T010000Z
SUMMARY:Riverside Virtual Book Club
LOCATION:Riverside Regional Library, 1997 E. Jackson Blvd., Jackson, MO
UID:29464-2026-05-18@www.semoevents.com
DESCRIPTION:Join us for a discussion of “Florence Knapp’s debut novel of “The Names”. Program for ages 18+. To receive a Zoom invitation, contact Eunice at 573-243-8141 or eschlichting@rrlmo.org
END:VEVENT
END:VCALENDAR
