BEGIN:VCALENDAR
VERSION:2.0
METHOD:PUBLISH
PRODID:-//www.semoevents.com//Events Calendar//EN
BEGIN:VEVENT
DTSTART:20260520T220000Z
DTEND:20260520T230000Z
SUMMARY:Families Eating Smart Moving More
LOCATION:Riverside Regional Library, 1997 E. Jackson Blvd., Jackson, MO
UID:29466-2026-05-20@www.semoevents.com
DESCRIPTION:Join MU Extension for a fun and informative wellness program focused on healthy eating and active living. Session 2 of 6. To register contact Robbie at 573-243-8141 or ask at the Main Branch, Jackson. For ages 18+.
END:VEVENT
END:VCALENDAR
