BEGIN:VCALENDAR
VERSION:2.0
METHOD:PUBLISH
PRODID:-//www.semoevents.com//Events Calendar//EN
BEGIN:VEVENT
DTSTART:20260521T180000Z
DTEND:20260521T230000Z
SUMMARY:Drop-in Craft
LOCATION:Riverside Regional Library, Altenburg, 66 Poplar Street, Altenburg, MO
UID:29467-2026-05-21@www.semoevents.com
DESCRIPTION:Stop by and get creative with this fun craft. For ages 5-10 at the Altenburg Branch.
END:VEVENT
END:VCALENDAR
