BEGIN:VCALENDAR
VERSION:2.0
METHOD:PUBLISH
PRODID:-//www.semoevents.com//Events Calendar//EN
BEGIN:VEVENT
DTSTART:20260521T190000Z
DTEND:20260521T200000Z
SUMMARY:Tea Party with Bingo
LOCATION:Riverside Regional Library - Scott City, 1408 Main Street, Scott City, MO
UID:29468-2026-05-21@www.semoevents.com
DESCRIPTION:Join us for a cuppa tea and some bingo fun. For all ages at the Scott City Branch.
END:VEVENT
END:VCALENDAR
