BEGIN:VCALENDAR
VERSION:2.0
METHOD:PUBLISH
PRODID:-//www.semoevents.com//Events Calendar//EN
BEGIN:VEVENT
DTSTART:20260522T190000Z
DTEND:20260522T200000Z
SUMMARY:Crafts
LOCATION:Riverside Regional Library, Benton, 54 N. Winchester Street, Benton, MO
UID:29469-2026-05-22@www.semoevents.com
DESCRIPTION:Get creative with this craft for all ages at the Benton Branch.
END:VEVENT
END:VCALENDAR
