BEGIN:VCALENDAR
VERSION:2.0
METHOD:PUBLISH
PRODID:-//www.semoevents.com//Events Calendar//EN
BEGIN:VEVENT
DTSTART:20260522T200000Z
DTEND:20260522T210000Z
SUMMARY:Book Bingo
LOCATION:Riverside Regional Library, 1997 E. Jackson Blvd., Jackson, MO
UID:29470-2026-05-22@www.semoevents.com
DESCRIPTION:Join us for a fun hour of book-themed bingo! Play for book prizes, enjoy good company, and explore our collection and recommendations throughout the library. For ages 18+ at the Main Branch in Jackson.
END:VEVENT
END:VCALENDAR
