BEGIN:VCALENDAR
VERSION:2.0
METHOD:PUBLISH
PRODID:-//www.semoevents.com//Events Calendar//EN
BEGIN:VEVENT
DTSTART:20260522T210000Z
DTEND:20260522T220000Z
SUMMARY:Banned Book Club
LOCATION:Riverside Regional Library, Perryville, 800 City Park Lane, Perryville, MO
UID:29471-2026-05-22@www.semoevents.com
DESCRIPTION:Our challenged book pick of the month is “Black Brother, Black Brother” by Jewell Parker Rhodes! Join our club of bookish rebels to discuss the award-winning novel and why it’s been challenged. Check out a copy at the library—just ask a librarian!  For ages 12+ at the Perryville Branch.
END:VEVENT
END:VCALENDAR
