BEGIN:VCALENDAR
VERSION:2.0
METHOD:PUBLISH
PRODID:-//www.semoevents.com//Events Calendar//EN
BEGIN:VEVENT
DTSTART:20260523T150000Z
DTEND:20260523T160000Z
SUMMARY:Family Game Day
LOCATION:Riverside Regional Library, Oran, 120 Mountain Street, Oran, MO 63771
UID:29472-2026-05-23@www.semoevents.com
DESCRIPTION:Bring the family in for some fun game time and refreshments. For all ages at the Oran Branch.
END:VEVENT
END:VCALENDAR
