BEGIN:VCALENDAR
VERSION:2.0
METHOD:PUBLISH
PRODID:-//www.semoevents.com//Events Calendar//EN
BEGIN:VEVENT
DTSTART:20260523T160000Z
DTEND:20260523T170000Z
SUMMARY:World Turtle Day Craft
LOCATION:Riverside Regional Library, Perryville, 800 City Park Lane, Perryville, MO
UID:29473-2026-05-23@www.semoevents.com
DESCRIPTION:Listen to a turtle story and make turtle suncatchers! For all ages at the Perryville Branch.
END:VEVENT
END:VCALENDAR
