BEGIN:VCALENDAR
VERSION:2.0
METHOD:PUBLISH
PRODID:-//www.semoevents.com//Events Calendar//EN
BEGIN:VEVENT
DTSTART:20260523T160000Z
DTEND:20260523T170000Z
SUMMARY:Hands-only CPR Training
LOCATION:Riverside Regional Library, 1997 E. Jackson Blvd., Jackson, MO
UID:29474-2026-05-23@www.semoevents.com
DESCRIPTION:Be ready to save a life with Hands-only CPR! It’s easy to learn with this free American Red Cross 30-minute class. For ages 18+. Register by calling Robbie at 573-243-8141 or ask at the Main Branch, Jackson.
END:VEVENT
END:VCALENDAR
