BEGIN:VCALENDAR
VERSION:2.0
METHOD:PUBLISH
PRODID:-//www.semoevents.com//Events Calendar//EN
BEGIN:VEVENT
DTSTART:20260528T153000Z
DTEND:20260528T163000Z
SUMMARY:Story Time
LOCATION:Riverside Regional Library, Oran, 120 Mountain Street, Oran, MO 63771
UID:29479-2026-05-28@www.semoevents.com
DESCRIPTION:Bring your little one in for a fun story time. For ages 0-5 at the Oran Branch.
END:VEVENT
END:VCALENDAR
