BEGIN:VCALENDAR
VERSION:2.0
METHOD:PUBLISH
PRODID:-//www.semoevents.com//Events Calendar//EN
BEGIN:VEVENT
DTSTART:20260530T140000Z
DTEND:20260530T170000Z
SUMMARY:Summer Kick-off Party
LOCATION:Riverside Regional Library, 1997 E. Jackson Blvd., Jackson, MO
UID:29483-2026-05-30@www.semoevents.com
DESCRIPTION:Celebrate the start of the Summer Library Program!! This event will be outside in front of the library, rain or shine. Enjoy crafts, games, sensory bins, a science experiment and more. And don’t forget to sign up for the Summer Reading Challenge! For all ages at the Main Branch, Jackson.
END:VEVENT
END:VCALENDAR
