BEGIN:VCALENDAR
VERSION:2.0
METHOD:PUBLISH
PRODID:-//www.semoevents.com//Events Calendar//EN
BEGIN:VEVENT
DTSTART:20260530T150000Z
DTEND:20260530T160000Z
SUMMARY:Summer Reading Kick-off
LOCATION:Riverside Regional Library - Scott City, 1408 Main Street, Scott City, MO
UID:29485-2026-05-30@www.semoevents.com
DESCRIPTION:Join us for a roaring good time of crafts and activities and sign up for “Unearthing a Story” Summer Reading Challenge. For all ages at the Scott City Branch.
END:VEVENT
END:VCALENDAR
