BEGIN:VCALENDAR
VERSION:2.0
METHOD:PUBLISH
PRODID:-//www.semoevents.com//Events Calendar//EN
BEGIN:VEVENT
DTSTART:20260516T130000Z
DTEND:20260516T210000Z
SUMMARY:Cape Girardeau Riverfront Flea Market
LOCATION:Cape Girardeau Riverfront Flea Market, 43 S. Main Street, Cape Girardeau, MO 63701
UID:29492-2026-05-16@www.semoevents.com
DESCRIPTION:Come on down to the Cape Girardeau Riverfront Flea Market on Saturday, May 16th, 2026. 8a.m.-4 p.m. and shop over 100 vendors! Will be held on the parking lot at Independence and Main Street and the parking lot at Broadway and Main Street.  Many types of vendors including antiques, collectibles, handmade crafts, jewelry, leatherworks, metalworks, and many various food/drink trucks.  Event will be held Rain or Shine.  For more information, please message us on our Facebook page Cape Girardeau Riverfront Flea Market. See you on the Riverfront!
END:VEVENT
END:VCALENDAR
