BEGIN:VCALENDAR
VERSION:2.0
METHOD:PUBLISH
PRODID:-//www.semoevents.com//Events Calendar//EN
BEGIN:VEVENT
DTSTART:20260501T160000Z
DTEND:20260501T180000Z
SUMMARY:St. Andrew LWML: SALAD LUNCHEON
LOCATION:St. Andrew Lutheran Church, 804 North Cape Rock Drive, Cape Girardeau, MO
UID:29495-2026-05-01@www.semoevents.com
DESCRIPTION:Come out for a Salad Luncheon with a large variety of salads & hot casseroles. Dine-In or Carry-Out. Cost is $10 and proceeds to benefit mission of St. Andrew Lutheran Women in Mission.  
END:VEVENT
END:VCALENDAR
