BEGIN:VCALENDAR
VERSION:2.0
METHOD:PUBLISH
PRODID:-//www.semoevents.com//Events Calendar//EN
BEGIN:VEVENT
DTSTART:20260422T160000Z
DTEND:20260422T200000Z
SUMMARY:Hand Quilting Demonstration
LOCATION:Lutheran Heritage Center &  Museum, 75 Church St., Altenburg, MO
UID:29496-2026-04-22@www.semoevents.com
DESCRIPTION:Curious about hand quilting but don't know where to start? Long-time quilter who wants to connect with others? Come watch as the Salem, Farrar ladies give a demonstration on Wednesday, April 22 11:00 am - 3:00 pm. Stop by anytime and check out all of Ann Meyer Hazelewood's Red & White quilts while you are here!
END:VEVENT
END:VCALENDAR
