BEGIN:VCALENDAR
VERSION:2.0
METHOD:PUBLISH
PRODID:-//www.semoevents.com//Events Calendar//EN
BEGIN:VEVENT
DTSTART:20260516T140000Z
DTEND:20260516T210000Z
SUMMARY:Ste Genevieve Master Gardeners Garden Walk & Plant Sale
LOCATION:Ste Genevieve Welcome Center, 66 S Main, Ste Genevieve, MO 63670
UID:29499-2026-05-16@www.semoevents.com
DESCRIPTION:EARLY ACCESS PASS: $15 9am -10am  Participants who purchase this ticket are admitted exclusively to the plant sale during this time. (First right of selection) (Includes Garden Walk Ticket)  After 10am there is no extra charge for Plant Sale Access GENERAL ACCESS PASS - $10 10am -4pm  Plant Sale & Garden Walk Access Sunday, May 17th GENERAL ACCESS PASS: $10 10am -4pm Plant Sale & Garden Walk Access 
END:VEVENT
BEGIN:VEVENT
DTSTART:20260517T150000Z
DTEND:20260517T210000Z
SUMMARY:Ste Genevieve Master Gardeners Garden Walk & Plant Sale
LOCATION:Ste Genevieve Welcome Center, 66 S Main, Ste Genevieve, MO 63670
UID:29499-2026-05-17@www.semoevents.com
DESCRIPTION:EARLY ACCESS PASS: $15 9am -10am  Participants who purchase this ticket are admitted exclusively to the plant sale during this time. (First right of selection) (Includes Garden Walk Ticket)  After 10am there is no extra charge for Plant Sale Access GENERAL ACCESS PASS - $10 10am -4pm  Plant Sale & Garden Walk Access Sunday, May 17th GENERAL ACCESS PASS: $10 10am -4pm Plant Sale & Garden Walk Access 
END:VEVENT
END:VCALENDAR
