BEGIN:VCALENDAR
VERSION:2.0
METHOD:PUBLISH
PRODID:-//www.semoevents.com//Events Calendar//EN
BEGIN:VEVENT
DTSTART:20260425T000000Z
DTEND:20260425T020000Z
SUMMARY:Dance with  Latin Rumba Lesson
LOCATION:Cape Ballroom held at The American Legion Hall, 2731 Thomas Drive, Cape Girardeau, MO
UID:29504-2026-04-24@www.semoevents.com
DESCRIPTION:Dance with  Latin Rumba Lesson Friday, April 24th -  7:00 to 9:00 p.m.  Rumba is a fascinating, fancy, and dramatic Latin dance that has almost surpassed the waltz as the most requested wedding dance. Just $5 per person at the door, cash only. No bills over $20, please. Doors open at 6:45 p.m. The evening begins at 7:00 p.m. with a 30-minute dance lesson, followed by dancing to mixed ballroom music. Line dances included.  No smoking. No alcohol. Water is available. You may bring your own snacks and non-alcoholic  beverages. Cape Ballroom Friday Night Dances are held from 7-9 p.m. at the American Legion Hall, 2731 Thomas Drive, Cape Girardeau, MO 63701.  Cape Ballroom gift certificates make a great gift!  Small Group Classes, Private Lessons, and Wedding Lessons are also available. Questions?  Facebook message, text/call (480) 857-7286, or email dan@capeballroom.com.
END:VEVENT
END:VCALENDAR
