BEGIN:VCALENDAR
VERSION:2.0
METHOD:PUBLISH
PRODID:-//www.semoevents.com//Events Calendar//EN
BEGIN:VEVENT
DTSTART:20260507T140000Z
DTEND:20260507T210000Z
SUMMARY:Landscape Painting Workshop with Farley Lewis May 7 & 8, 2026
LOCATION:Rosemary Berkel and Harry L. Crisp II Museum, 518 S. Fountain St., Cape Girardeau, MO
UID:29506-2026-05-07@www.semoevents.com
DESCRIPTION:Landscape Painting Workshop with Farley Lewis May 7 & 8, 2026 at Crisp Museum Preregistration with $40 fee is due by May 2.  The workshop will be held 9 a.m.-4 p.m. daily. Seating is limited.   Farley Lewis brings a fun and creative approach to painting landscapes. He unpacks the principles of painting and the mindsets that help you paint in a bolder and more expressive way. Lewis' simple, relaxed approach to teaching is informative, refreshing, and easy to remember. His BFA in Fine Art was earned from Missouri State University, Springfield. Lewis will make a demo painting as he explains his techniques. Seeing his process is a great experience. Participants may use acrylics or oils. A recommended supply list will be given. Crisp Museum is located inside the Cultural Arts Center at Southeast Missouri State University's River Campus at 518 S. Fountain St., Cape Girardeau, MO. Questions: (573) 651-2260. 
END:VEVENT
BEGIN:VEVENT
DTSTART:20260508T140000Z
DTEND:20260508T210000Z
SUMMARY:Landscape Painting Workshop with Farley Lewis May 7 & 8, 2026
LOCATION:Rosemary Berkel and Harry L. Crisp II Museum, 518 S. Fountain St., Cape Girardeau, MO
UID:29506-2026-05-08@www.semoevents.com
DESCRIPTION:Landscape Painting Workshop with Farley Lewis May 7 & 8, 2026 at Crisp Museum Preregistration with $40 fee is due by May 2.  The workshop will be held 9 a.m.-4 p.m. daily. Seating is limited.   Farley Lewis brings a fun and creative approach to painting landscapes. He unpacks the principles of painting and the mindsets that help you paint in a bolder and more expressive way. Lewis' simple, relaxed approach to teaching is informative, refreshing, and easy to remember. His BFA in Fine Art was earned from Missouri State University, Springfield. Lewis will make a demo painting as he explains his techniques. Seeing his process is a great experience. Participants may use acrylics or oils. A recommended supply list will be given. Crisp Museum is located inside the Cultural Arts Center at Southeast Missouri State University's River Campus at 518 S. Fountain St., Cape Girardeau, MO. Questions: (573) 651-2260. 
END:VEVENT
END:VCALENDAR
