BEGIN:VCALENDAR
VERSION:2.0
METHOD:PUBLISH
PRODID:-//www.semoevents.com//Events Calendar//EN
BEGIN:VEVENT
DTSTART:20260521T230000Z
DTEND:20260522T010000Z
SUMMARY:Collage with Emily Denlinger at Crisp Museum
LOCATION:Rosemary Berkel and Harry L. Crisp II Museum, 518 S. Fountain St., Cape Girardeau, MO
UID:29507-2026-05-21@www.semoevents.com
DESCRIPTION:Collage with Emily Denlinger May 21 6-8 p.m. Free / Open to the Public / Supplies Provided This is a fun way to incorporate figures, create an imaginative environment, break the rules of proportion, pair things that never usually go together, and still make a statement in a nice composition. You have the creativity, just make time to use it! Participants will choose elements from the provided media and materials to layer and assemble their pieces, or may bring their own. Emily Denlinger, professor in Art and Design, will give guidance and assistance to beginners. Supplies and refreshments will be provided. Crisp Museum is located inside the Southeast Missouri State University's Cultural Arts Center at River Campus at 518 S. Fountain St., Cape Girardeau, MO. Questions: (573) 651-2260 or Email: Emily Denlinger: edenlinger@semo.edu
END:VEVENT
END:VCALENDAR
