BEGIN:VCALENDAR
VERSION:2.0
METHOD:PUBLISH
PRODID:-//www.semoevents.com//Events Calendar//EN
BEGIN:VEVENT
DTSTART:20260502T180000Z
DTEND:20260502T180000Z
SUMMARY:Peace Walk at The Labyrinth at Abbey Road
LOCATION:The Labyrinth at Abbey Road, 2411 Abbey Road, Cape Girardeau, MO
UID:29508-2026-05-02@www.semoevents.com
DESCRIPTION:You are invited to a walk for Peace at The Labyrinth at Abbey Road, 2411 Abbey Road, Cape Girardeau, MO, on Saturday, May 2, 2026, at 1:00 pm. This event is in celebration of the 18th annual international World Labyrinth Day "Walk as One at 1" for world peace with walks around the globe creating a rolling wave of peaceful energy from one time zone to the next. Come lend your energy as you walk our outdoor labyrinth or sit in silent contemplation with a finger labyrinth in our pergola.  This is a free event and open to all ages. Further information is available at labyrinthsociety.org, worldlabyrinthday.org,  and on Facebook where over 25,000 members from 100 countries follow The Labyrinth Society Global Group.  For over 6,000 labyrinth locations, visit the World-Wide Labyrinth Locator website: labyrinthlocator.com.
END:VEVENT
END:VCALENDAR
