BEGIN:VCALENDAR
VERSION:2.0
METHOD:PUBLISH
PRODID:-//www.semoevents.com//Events Calendar//EN
BEGIN:VEVENT
DTSTART:20260501T160000Z
DTEND:20260501T180000Z
SUMMARY:Salad Luncheon
LOCATION:St. Andrew Lutheran Church, 804 North Cape Rock Drive, Cape Girardeau, MO
UID:29510-2026-05-01@www.semoevents.com
DESCRIPTION:Invite your friends to a quick lunch! Bring them to the Annual Salad Luncheon Friday, May 1 serving from 11am-1pm at St. Andrew Lutheran Church, 804 N Cape Rock Drive (Entrance 3) There will be an assortment of fresh salads, a hot casserole and drink all for $10.  Dine-in or carry out.   Proceeds benefit the missions of St. Andrew LWML. 
END:VEVENT
END:VCALENDAR
