BEGIN:VCALENDAR
VERSION:2.0
METHOD:PUBLISH
PRODID:-//www.semoevents.com//Events Calendar//EN
BEGIN:VEVENT
DTSTART:20260505T230000Z
DTEND:20260505T230000Z
SUMMARY:Westward Road in Concert
LOCATION:First General Baptist Church, 1812 Cape LaCroix Road, Cape Girardeau, Mo.
UID:29515-2026-05-05@www.semoevents.com
DESCRIPTION:WESTWARD ROAD in concert at 6:00 pm on Tuesday, May 5, at First General Baptist Church 1812 Cape LaCroix Road, Cape Girardeau. There will be no charge for admission but a freewill offering will be taken. 
END:VEVENT
END:VCALENDAR
